BEGIN:VCALENDAR
VERSION:2.0
PRODID:-//Loop Project Space &amp; Bar - ECPv4.8.2//NONSGML v1.0//EN
CALSCALE:GREGORIAN
METHOD:PUBLISH
X-WR-CALNAME:Loop Project Space &amp; Bar
X-ORIGINAL-URL:https://www.looponline.com.au
X-WR-CALDESC:Events for Loop Project Space &amp; Bar
BEGIN:VEVENT
DTSTART;TZID=Australia/Melbourne:20161207T183000
DTEND;TZID=Australia/Melbourne:20161207T213000
DTSTAMP:20200228T044020
CREATED:20161207T032023Z
LAST-MODIFIED:20161207T032023Z
UID:6844-1481135400-1481146200@www.looponline.com.au
SUMMARY:A Shared House: Season 2 Premiere
DESCRIPTION:Tongue TV\, Comedy & Co and Web Series IRL are pleased to host the Melbourne Premiere of the critically acclaimed online comedy series\, A Shared House. \nThis event is a unique mash up of everything comedy in Melbourne lead by our host for the evening\, all the way from the US…the hilarious Melissa McGlensey for red carpet interviews\, live entertainment\, a Q & A with the cast and producers and a screening of Season 2. \nExperience a hump day like no other and register to attend this FREE event for the love of comedy and dirty jokes! \nTICKETS HERE \n  \n \n
URL:https://www.looponline.com.au/event/shared-house-season-2-premiere/
LOCATION:Loop Project Space\, Australia
CATEGORIES:Screenings,Short Films
ATTACH;FMTTYPE=image/jpeg:https://www.looponline.com.au/wp-content/uploads/2016/12/netsizeillustration.jpeg
END:VEVENT
END:VCALENDAR